BEGIN:VCALENDAR
VERSION:2.0
PRODID:-//wp-events-plugin.com//7.2.3.1//EN
TZID:Europe/Berlin
X-WR-TIMEZONE:Europe/Berlin
BEGIN:VEVENT
UID:94@dikg-braunschweig.de
DTSTART;TZID=Europe/Berlin:20241115T190000
DTEND;TZID=Europe/Berlin:20241115T203000
DTSTAMP:20241028T100541Z
URL:https://dikg-braunschweig.de/events/vortrag-der-hl-benedikt-die-berge-
 und-das-meer-reise-durch-suedlatium
SUMMARY:Vortrag - Der Hl. Benedikt\, die Berge und das Meer : Reise durch S
 üdlatium
DESCRIPTION:Vortrag mit Digitalbildern von Dr. Beate Nagel\, DIKG Braunschw
 eig\n\nAuf halbem Weg zwischen Rom und Neapel liegen viele antike Stätten
 . Hier geht es auf der Via Appia am Meer entlang zum Tempel des Jupiter An
 xur bis zur Villa des Tiberius in Sperlonga. In den Bergen liegen die Ursp
 rünge des Benediktinerordens\, in Subiaco der Sacro Speco und das Mutterk
 loster der Benediktiner Montecassino. Historisch bedeutsam ist die Ohrfeig
 e von Anagni\, die Papst Bonifaz VIII statt eines erwarteten Todesstoßes 
 demütigte\; kunsthistorischer Meilenstein ist im gleichen Ort in den Berg
 en die mit Fresken ausgemalte Krypta des Doms. Allein die kleinen Städte\
 , die sich meist auf Hügeln ausbreiten\, sind schon sehenswert\, malerisc
 he Idyllen mit winkeligen Gassen\, schönen Aussichten und viel Geschichte
 .\n\nDer Vortrag zeichnet die Reise der DIKG Braunschweig nach\, die in di
 esem September stattgefunden hat.\n\nTermin: 15. November 2024\, 19:00 Uhr
 \n\nOrt: Haus der Kulturen\, Am Nordbahnhof 1A\, BS\n\nEintritt: Mitgliede
 r €5\,00\, Nicht-Mitglieder  €8\,00
CATEGORIES:Vorträge
LOCATION:Haus der Kulturen\, Am Nordbahnhof 1A\, Braunschweig\, 38106\, Deu
 tschland
X-APPLE-STRUCTURED-LOCATION;VALUE=URI;X-ADDRESS=Am Nordbahnhof 1A\, Braunsc
 hweig\, 38106\, Deutschland;X-APPLE-RADIUS=100;X-TITLE=Haus der Kulturen:g
 eo:0,0
END:VEVENT
BEGIN:VTIMEZONE
TZID:Europe/Berlin
X-LIC-LOCATION:Europe/Berlin
BEGIN:STANDARD
DTSTART:20241027T020000
TZOFFSETFROM:+0200
TZOFFSETTO:+0100
TZNAME:CET
END:STANDARD
END:VTIMEZONE
END:VCALENDAR